BEGIN:VCALENDAR
VERSION:2.0
PRODID:icalendar-ruby
CALSCALE:GREGORIAN
METHOD:PUBLISH
BEGIN:VEVENT
DTSTAMP:20260426T032126Z
UID:155-1450949@graceofsummerlin.org
DTSTART:20261106T180000Z
DTEND:20261106T200000Z
CLASS:PUBLIC
CREATED:20260425T184345
DESCRIPTION:private(C)\n \n02/25/26-rb\nupdated/removed 04/03\, on 04/01-r
 b
LAST-MODIFIED:20260425T184345
LOCATION:
SUMMARY:Rehearsal - Private
URL;VALUE=URI:https://www.graceofsummerlin.org/events/rehearsal-private--15
 5/2026-11-06
END:VEVENT
END:VCALENDAR
