BEGIN:VCALENDAR
VERSION:2.0
PRODID:icalendar-ruby
CALSCALE:GREGORIAN
METHOD:PUBLISH
BEGIN:VEVENT
DTSTAMP:20260426T002529Z
UID:155-1449328@graceofsummerlin.org
DTSTART:20261023T170000Z
DTEND:20261023T190000Z
CLASS:PUBLIC
CREATED:20260425T160147
DESCRIPTION:private(C)\n \n02/25/26-rb\nupdated/removed 04/03\, on 04/01-r
 b
LAST-MODIFIED:20260425T160147
LOCATION:
SUMMARY:Rehearsal - Private
URL;VALUE=URI:https://www.graceofsummerlin.org/events/rehearsal-private--15
 5/2026-10-23
END:VEVENT
END:VCALENDAR
